BEGIN:VCALENDAR
VERSION:2.0
PRODID:-//Project Defiant - ECPv6.15.12.2//NONSGML v1.0//EN
CALSCALE:GREGORIAN
METHOD:PUBLISH
X-WR-CALNAME:Project Defiant
X-ORIGINAL-URL:https://projectdefiant.com
X-WR-CALDESC:Events for Project Defiant
REFRESH-INTERVAL;VALUE=DURATION:PT1H
X-Robots-Tag:noindex
X-PUBLISHED-TTL:PT1H
BEGIN:VTIMEZONE
TZID:America/Chicago
BEGIN:DAYLIGHT
TZOFFSETFROM:-0600
TZOFFSETTO:-0500
TZNAME:CDT
DTSTART:20230312T080000
END:DAYLIGHT
BEGIN:STANDARD
TZOFFSETFROM:-0500
TZOFFSETTO:-0600
TZNAME:CST
DTSTART:20231105T070000
END:STANDARD
BEGIN:DAYLIGHT
TZOFFSETFROM:-0600
TZOFFSETTO:-0500
TZNAME:CDT
DTSTART:20240310T080000
END:DAYLIGHT
BEGIN:STANDARD
TZOFFSETFROM:-0500
TZOFFSETTO:-0600
TZNAME:CST
DTSTART:20241103T070000
END:STANDARD
BEGIN:DAYLIGHT
TZOFFSETFROM:-0600
TZOFFSETTO:-0500
TZNAME:CDT
DTSTART:20250309T080000
END:DAYLIGHT
BEGIN:STANDARD
TZOFFSETFROM:-0500
TZOFFSETTO:-0600
TZNAME:CST
DTSTART:20251102T070000
END:STANDARD
END:VTIMEZONE
BEGIN:VEVENT
DTSTART;TZID=America/Chicago:20240523T040000
DTEND;TZID=America/Chicago:20240523T220000
DTSTAMP:20260421T030138
CREATED:20240412T140709Z
LAST-MODIFIED:20240522T213856Z
UID:20000005-1716436800-1716501600@projectdefiant.com
SUMMARY:Texas Flynn Fest
DESCRIPTION:General Flynn will be exposing the truth behind the corruption\, where the bodies are buried\, and why he has been so heavily politically persecuted. \nThe festivities will begin at 4pm where patriots will unite and gather for an evening of food\, fun\, and freedom! \nEvent Schedule \nAll Ticket Holders \n\n\n4:00 pm – 7:00 pm: Vendors\, Food\, Drinks\, Activities\, Drawings\n\n\n6:00 pm: FLYNN Movie Display Presentation\, Media and Red Carpet Activities Begin\n\n\n7:30 pm – 9:30 pm: FLYNN Movie Begins\n\n\n9:30 pm – 9:45 pm: Short Intermission\n\n\n9:45 pm – 10:45 pm: LIVE Audience Q&A w/ General Flynn and Special Guests\n\n\nVIP Ticket Holders \n\n6:00 pm: Exclusive Private Meet & Greet w/ General Flynn\n\nTickets \nGeneral Admission: $35 \nIncludes all the festivities\, the movie\, and live Q&A with General Flynn! \nVIP: $200 \n\nALMOST SOLD OUT!\nDon’t miss this unique opportunity! Our VIP tickets offer an exclusive meet-and-greet with General Flynn\, a photo op\, and a VIP Bag filled with FLYNN memorabilia.\n\nLocation: \nSawyer Park Icehouse\n314 Pruitt Rd\nSpring\, TX 77380 \nEVENT WEBSITE – CLICK HERE
URL:https://projectdefiant.com/event/texas-flynn-fest/
LOCATION:Sawyer Park Icehouse\, 314 Pruitt Rd\, Spring\, TX\, 77380\, United States
ATTACH;FMTTYPE=image/jpeg:https://projectdefiant.com/wp-content/uploads/2024/04/Texas-Flynn-Fest-Featured.jpg
ORGANIZER;CN="Project Defiant":MAILTO:events@projectdefiant.com
END:VEVENT
END:VCALENDAR